BEGIN:VCALENDAR
VERSION:2.0
PRODID:-//wp-events-plugin.com//7.2.3.1//EN
TZID:America/New_York
X-WR-TIMEZONE:America/New_York
BEGIN:VEVENT
UID:2265@marthastable.org
DTSTART;TZID=America/New_York:20241008T130000
DTEND;TZID=America/New_York:20241008T143000
DTSTAMP:20241002T152021Z
URL:https://marthastable.org/events/vehicles-for-change-virtual-reality-vr
 -info-session-2/
SUMMARY:Vehicles for Change - Virtual Reality (VR) | Info Session
DESCRIPTION:IGNITE YOUR PASSION: Start your career as a certified auto tech
 nician.\nAre you passionate about cars and looking to start a rewarding ca
 reer in the automotive industry? We have exciting news! In collaboration w
 ith Vehicles for Change VR\, Martha's Table is launching a cutting-edge Vi
 rtual Reality (VR) Automotive Technician Training Program designed to equi
 p you with the skills needed to succeed in the automotive field.\nIf you h
 ave a genuine interest in cars and are ready to jumpstart your career\, we
  want to hear from you! Contact Darryl Rogers at MTVFC@marthastable.org t
 o register for an information session or to learn more about this program.
 \n\n\n\n\n\nInfo session takes place on:\n\nTuesday\, October 8\, 2024\n1:
 00 pm - 2:30 pm\n\nVirtual\n\n\n\n\n\n\nRegister for an information sessio
 n.
ATTACH;FMTTYPE=image/jpeg:https://marthastable.org/wp-content/uploads/2024
 /09/Newport-Image-4-scaled.jpg
CATEGORIES:Careers
END:VEVENT
BEGIN:VTIMEZONE
TZID:America/New_York
X-LIC-LOCATION:America/New_York
BEGIN:DAYLIGHT
DTSTART:20240310T030000
TZOFFSETFROM:-0500
TZOFFSETTO:-0400
TZNAME:EDT
END:DAYLIGHT
END:VTIMEZONE
END:VCALENDAR