BEGIN:VCALENDAR
VERSION:2.0
PRODID:-//wp-events-plugin.com//7.2.3.1//EN
TZID:America/New_York
X-WR-TIMEZONE:America/New_York
BEGIN:VEVENT
UID:2977@marthastable.org
DTSTART;TZID=America/New_York:20251216T123000
DTEND;TZID=America/New_York:20251216T150000
DTSTAMP:20250311T132526Z
URL:https://marthastable.org/events/the-quilt-corner-tuesdays-2-2025-12-16
 /
SUMMARY:The Quilt Corner | Tuesdays |
DESCRIPTION:Meet us at The Quilt Corner! This bi-weekly workshop teaches pa
 rticipants about the Quilt Codes of the Underground Railroad as they work 
 as a team to construct a quilt.
CATEGORIES:Workshops
END:VEVENT
BEGIN:VTIMEZONE
TZID:America/New_York
X-LIC-LOCATION:America/New_York
BEGIN:STANDARD
DTSTART:20251102T010000
TZOFFSETFROM:-0400
TZOFFSETTO:-0500
TZNAME:EST
END:STANDARD
END:VTIMEZONE
END:VCALENDAR